BEGIN:VCALENDAR
VERSION:2.0
PRODID:-//Lawton Proud - ECPv6.6.4.2//NONSGML v1.0//EN
CALSCALE:GREGORIAN
METHOD:PUBLISH
X-ORIGINAL-URL:https://lawtonproud.com
X-WR-CALDESC:Events for Lawton Proud
REFRESH-INTERVAL;VALUE=DURATION:PT1H
X-Robots-Tag:noindex
X-PUBLISHED-TTL:PT1H
BEGIN:VTIMEZONE
TZID:America/Chicago
BEGIN:DAYLIGHT
TZOFFSETFROM:-0600
TZOFFSETTO:-0500
TZNAME:CDT
DTSTART:20150308T080000
END:DAYLIGHT
BEGIN:STANDARD
TZOFFSETFROM:-0500
TZOFFSETTO:-0600
TZNAME:CST
DTSTART:20151101T070000
END:STANDARD
END:VTIMEZONE
BEGIN:VEVENT
DTSTART;TZID=America/Chicago:20150910T060000
DTEND;TZID=America/Chicago:20150910T170000
DTSTAMP:20260420T080809
CREATED:20150910T205432Z
LAST-MODIFIED:20150910T205432Z
UID:4500-1441864800-1441904400@lawtonproud.com
SUMMARY:16 & under skate free @ LOL
DESCRIPTION:Tonight at LOL starting at 6 p.m!
URL:https://lawtonproud.com/event/16-under-skate-free-lol/
END:VEVENT
BEGIN:VEVENT
DTSTART;TZID=America/Chicago:20150910T163000
DTEND;TZID=America/Chicago:20150910T173000
DTSTAMP:20260420T080809
CREATED:20150902T224905Z
LAST-MODIFIED:20150902T224905Z
UID:4488-1441902600-1441906200@lawtonproud.com
SUMMARY:After School Book Club
DESCRIPTION:3rd – 5th grades \nThis month’s book is The Incorrigible Children of Ashton Place by Maryrose Wood. Come enjoy great books\, snacks\, and reading together with friends.
URL:https://lawtonproud.com/event/after-school-book-club/
END:VEVENT
END:VCALENDAR