BEGIN:VCALENDAR
VERSION:2.0
PRODID:-//Lawton Proud - ECPv6.6.4.2//NONSGML v1.0//EN
CALSCALE:GREGORIAN
METHOD:PUBLISH
X-ORIGINAL-URL:https://lawtonproud.com
X-WR-CALDESC:Events for Lawton Proud
REFRESH-INTERVAL;VALUE=DURATION:PT1H
X-Robots-Tag:noindex
X-PUBLISHED-TTL:PT1H
BEGIN:VTIMEZONE
TZID:America/Chicago
BEGIN:DAYLIGHT
TZOFFSETFROM:-0600
TZOFFSETTO:-0500
TZNAME:CDT
DTSTART:20170312T080000
END:DAYLIGHT
BEGIN:STANDARD
TZOFFSETFROM:-0500
TZOFFSETTO:-0600
TZNAME:CST
DTSTART:20171105T070000
END:STANDARD
END:VTIMEZONE
BEGIN:VEVENT
DTSTART;TZID=America/Chicago:20170826T073000
DTEND;TZID=America/Chicago:20170826T073000
DTSTAMP:20260420T075658
CREATED:20170731T152446Z
LAST-MODIFIED:20170731T152446Z
UID:6849-1503732600-1503732600@lawtonproud.com
SUMMARY:Walk to End Alzheimer's Southwest Oklahoma
DESCRIPTION:Come join us at the Walk to End Alzheimer’s of Southwest Oklahoma and smash our fundraising goal of $50\,000! \nMore than 63\,000 Oklahomans and more than five million Americans are living with Alzheimer’s dementia – which is the sixth leading cause of death in the United States. Help us fund the fight by starting a team today at swokwalk.org!
URL:https://lawtonproud.com/event/walk-end-alzheimers-southwest-oklahoma/
LOCATION:Elmer Thomas Park\, 501 NW Ferris Ave  \, Lawton\, OK 73507\, 73507\, United States
ORGANIZER;CN="":MAILTO:phuckabaa@alz.org
END:VEVENT
BEGIN:VEVENT
DTSTART;TZID=America/Chicago:20170826T110000
DTEND;TZID=America/Chicago:20170826T140000
DTSTAMP:20260420T075658
CREATED:20170731T153134Z
LAST-MODIFIED:20170731T153210Z
UID:6853-1503745200-1503756000@lawtonproud.com
SUMMARY:Community Blood Drive
DESCRIPTION:Help us help the Oklahoma Blood Institute on August 26th from 11 a.m. to 2 p.m. We will provide refreshments and have some great give-a-ways including:  Dinner for 2 at Mutti’s\, 2 carwash passes from American Carwash\, and 2 tickets to Comanche Nation Waterpark.
URL:https://lawtonproud.com/event/community-blood-drive/
LOCATION:Ross Estates Apartments\, 7301 SW Lee Blvd. \, Latwon\, OK\, 73505
ORGANIZER;CN="":MAILTO:rossestates@mrdapartments.com
END:VEVENT
BEGIN:VEVENT
DTSTART;TZID=America/Chicago:20170826T200000
DTEND;TZID=America/Chicago:20170826T220000
DTSTAMP:20260420T075658
CREATED:20170731T154351Z
LAST-MODIFIED:20170731T154351Z
UID:6859-1503777600-1503784800@lawtonproud.com
SUMMARY:Lawton Philharmonic Orchestra Concert
DESCRIPTION:The Vibrant Violin    David Kim – Violin\nMOZART – Overture to The Magic Flute BRUCH – Violin Concerto SCHUMANN – “Rhenish” Symphony No. 3\nLawton favorite and Philadelphia Orchestra Concertmaster David Kim returns to play one of his favorites\, The Bruch Violin Concerto.  Mozart’s mystical overture to The Magic Flute and Schumann’s picturesque “Rhenish” Symphony complete the program.
URL:https://lawtonproud.com/event/lawton-philharmonic-orchestra-concert/
LOCATION:McMahon Memorial Auditorium\, 801 NW Ferris Ave\, Lawton\, 73505
ORGANIZER;CN="":MAILTO:lawtonphil3647@sbcglobal.net
END:VEVENT
BEGIN:VEVENT
DTSTART;TZID=America/Chicago:20170826T200000
DTEND;TZID=America/Chicago:20170826T230000
DTSTAMP:20260420T075658
CREATED:20170425T151425Z
LAST-MODIFIED:20170425T151425Z
UID:6540-1503777600-1503788400@lawtonproud.com
SUMMARY:Movie Night on the Beach
DESCRIPTION:LETRA’s movie night on the beach series will be showing Central Intelligence. Bring your chair or blanket! \n  \n 
URL:https://lawtonproud.com/event/movie-night-beach-4/
LOCATION:LETRA\, 7463 Deer Creek Canyon Road\, Fort Sill 
END:VEVENT
END:VCALENDAR