BEGIN:VCALENDAR
VERSION:2.0
PRODID:-//Lawton Proud - ECPv6.6.4.2//NONSGML v1.0//EN
CALSCALE:GREGORIAN
METHOD:PUBLISH
X-ORIGINAL-URL:https://lawtonproud.com
X-WR-CALDESC:Events for Lawton Proud
REFRESH-INTERVAL;VALUE=DURATION:PT1H
X-Robots-Tag:noindex
X-PUBLISHED-TTL:PT1H
BEGIN:VTIMEZONE
TZID:America/Chicago
BEGIN:DAYLIGHT
TZOFFSETFROM:-0600
TZOFFSETTO:-0500
TZNAME:CDT
DTSTART:20170312T080000
END:DAYLIGHT
BEGIN:STANDARD
TZOFFSETFROM:-0500
TZOFFSETTO:-0600
TZNAME:CST
DTSTART:20171105T070000
END:STANDARD
END:VTIMEZONE
BEGIN:VEVENT
DTSTART;TZID=America/Chicago:20171117T100000
DTEND;TZID=America/Chicago:20171119T200000
DTSTAMP:20260420T051657
CREATED:20171030T171410Z
LAST-MODIFIED:20171030T171410Z
UID:7078-1510912800-1511121600@lawtonproud.com
SUMMARY:44th Annual Craft Harvest Craft Show
DESCRIPTION:
URL:https://lawtonproud.com/event/44th-annual-craft-harvest-craft-show/
LOCATION:Comanche County Fairgrounds\, 920 SW Sheridan Rd\, Lawton\, OK 73505\, 73505
END:VEVENT
BEGIN:VEVENT
DTSTART;TZID=America/Chicago:20171118T090000
DTEND;TZID=America/Chicago:20171119T170000
DTSTAMP:20260420T051657
CREATED:20171113T182721Z
LAST-MODIFIED:20171113T182721Z
UID:7112-1510995600-1511110800@lawtonproud.com
SUMMARY:Lawton Gun Show 2017
DESCRIPTION:The Lawton Gun Show will be held on Nov 18th-19th\, 2017 in Lawton\, OK. This Lawton gun show is held at Great Plains Coliseum and hosted by Oklahoma Gun Shows. All federal\, state and local firearm ordinances and laws must be obeyed.\nHeld at the Anex Building.
URL:https://lawtonproud.com/event/lawton-gun-show-2017-2/
LOCATION:Great  Plains Annex Building\, 920 SW Sheridan Rd\, Lawton\, OK\, 73505
ORGANIZER;CN="Trish Wright":MAILTO:trish@oklahomagunshows.com
END:VEVENT
END:VCALENDAR