BEGIN:VCALENDAR
VERSION:2.0
PRODID:-//Lawton Proud - ECPv6.6.4.2//NONSGML v1.0//EN
CALSCALE:GREGORIAN
METHOD:PUBLISH
X-WR-CALNAME:Lawton Proud
X-ORIGINAL-URL:https://lawtonproud.com
X-WR-CALDESC:Events for Lawton Proud
REFRESH-INTERVAL;VALUE=DURATION:PT1H
X-Robots-Tag:noindex
X-PUBLISHED-TTL:PT1H
BEGIN:VTIMEZONE
TZID:America/Chicago
BEGIN:DAYLIGHT
TZOFFSETFROM:-0600
TZOFFSETTO:-0500
TZNAME:CDT
DTSTART:20180311T080000
END:DAYLIGHT
BEGIN:STANDARD
TZOFFSETFROM:-0500
TZOFFSETTO:-0600
TZNAME:CST
DTSTART:20181104T070000
END:STANDARD
BEGIN:DAYLIGHT
TZOFFSETFROM:-0600
TZOFFSETTO:-0500
TZNAME:CDT
DTSTART:20190310T080000
END:DAYLIGHT
BEGIN:STANDARD
TZOFFSETFROM:-0500
TZOFFSETTO:-0600
TZNAME:CST
DTSTART:20191103T070000
END:STANDARD
END:VTIMEZONE
BEGIN:VEVENT
DTSTART;TZID=America/Chicago:20180626T180000
DTEND;TZID=America/Chicago:20180626T220000
DTSTAMP:20260423T034716
CREATED:20180416T153628Z
LAST-MODIFIED:20180416T153628Z
UID:7514-1530036000-1530050400@lawtonproud.com
SUMMARY:Online Desert Survival Class
DESCRIPTION:Online Desert Survival Class \n1. 26 tips for surviving the desert\n2. panic factor\n3. survival kits\n4. desert survival priorities\n5. plan trip\n6. signaling mirrors\n7. know possible dangers\n8. direction\n9. protection and first aid kits\n10. simple pack carry in desert\n11. learn how make solar still\n12. don’t build fires during the day\n13. be aware of flash flood they are rare but deadly\n14. surviving dust storms\n15. cactus water last resort\n16. stay in shelter during the day\n17. dig for water resource\n18. look for water else where \n$18.00 per adult $5.00 per child and $35.00 per group or family. \nContact dallins549@gmail.com or call me at 208-351-3407. \nMy class will be on google class I will give you code for class. \n 
URL:https://lawtonproud.com/event/online-desert-survival-class/
END:VEVENT
BEGIN:VEVENT
DTSTART;TZID=America/Chicago:20180629T173000
DTEND;TZID=America/Chicago:20180629T210000
DTSTAMP:20260423T034716
CREATED:20180324T024321Z
LAST-MODIFIED:20180416T170821Z
UID:7476-1530293400-1530306000@lawtonproud.com
SUMMARY:Lawton Fort Sill Chamber of Commerce Annual Celebration
DESCRIPTION:
URL:https://lawtonproud.com/event/lawton-fort-sill-chamber-commerce/
LOCATION:Apache Casino Hotel\, 2315 E Gore Blvd\, Lawton\, OK\, 73501\, United States
END:VEVENT
BEGIN:VEVENT
DTSTART;VALUE=DATE:20180630
DTEND;VALUE=DATE:20180701
DTSTAMP:20260423T034716
CREATED:20180416T154128Z
LAST-MODIFIED:20180416T154128Z
UID:7516-1530316800-1530403199@lawtonproud.com
SUMMARY:Lawton Fort Sill Freedom Festival
DESCRIPTION:This annual event is full of Independence Day family fun! \nFree Admission and Parking \nVarious activities include Children’s Area\, car & motorcycle show\, food and drink vendors\, concerts and ends with one of the largest fireworks display set to music in Oklahoma \nA new park amenity for 2018 is the splash pad that was opened in Fall 2017. \nPicnic baskets\, lawn chairs\, pop-up tents (until dark) are welcomed. \nPlease\, no personal fireworks\, alcohol\, drones or pets.
URL:https://lawtonproud.com/event/lawton-fort-sill-freedom-festival/
LOCATION:Elmer Thomas Park\, 501 NW Ferris Ave  \, Lawton\, OK 73507\, 73507\, United States
END:VEVENT
BEGIN:VEVENT
DTSTART;TZID=America/Chicago:20180630T100000
DTEND;TZID=America/Chicago:20180630T120000
DTSTAMP:20260423T034716
CREATED:20180501T140113Z
LAST-MODIFIED:20180501T140113Z
UID:7534-1530352800-1530360000@lawtonproud.com
SUMMARY:Brunch and Coffee with Mayoral Candidates
DESCRIPTION:Brunch and Coffee with Mayoral Candidates will offer a candidate friendly platform for all Lawton Mayoral Registrants to give early campaign expressions of their vision and intentions as Mayor. \nCandidates will have an information table and will greet Lawton residents one on one as time permits.
URL:https://lawtonproud.com/event/brunch-coffee-mayoral-candidates/
LOCATION:Hilton Garden Inn Lawton – Fort Sill\, 135 NW 2nd St\, Lawton\, 73501
END:VEVENT
BEGIN:VEVENT
DTSTART;TZID=America/Chicago:20180721T210000
DTEND;TZID=America/Chicago:20180721T210000
DTSTAMP:20260423T034716
CREATED:20180302T011413Z
LAST-MODIFIED:20180302T011413Z
UID:7387-1532206800-1532206800@lawtonproud.com
SUMMARY:2nd Annual All White Attire Dance
DESCRIPTION:Déjà vu Social & Civic Club is having their 2nd Annual All White Attire Dance. Come out and support as we raise money to purchase school supplies and support the battered women’s shelter.
URL:https://lawtonproud.com/event/2nd-annual-white-attire-dance/
LOCATION:VFW Post 1193\, 926 2nd Street\, Lawton\, OK\, United States
END:VEVENT
BEGIN:VEVENT
DTSTART;VALUE=DATE:20180724
DTEND;VALUE=DATE:20180725
DTSTAMP:20260423T034716
CREATED:20180416T154809Z
LAST-MODIFIED:20180416T154809Z
UID:7517-1532390400-1532476799@lawtonproud.com
SUMMARY:Online Wildlife Class
DESCRIPTION:1. unique wildlife in United States\n2. courtship and behavior\n3. learn how to identify wildlife\n4. learn how to identify wildlife by their habitat\n5. Learn about conservation status of wildlife species\n6. learn about wildlife territoriality and aggression\n7. what wildlife need to survive\n8.predator-prey relationships\, and mutualistic relationships \,parasitic relationships\n9. and other topics people are interested in \n$40.00 per adult\, $10.00 per child $55.00 per family or group \nContact dallins549@gmail.com or call me at 208-351-3407. \nMy class will be on google class. I will give you code for class. \n 
URL:https://lawtonproud.com/event/online-wildlife-class/
END:VEVENT
BEGIN:VEVENT
DTSTART;VALUE=DATE:20180801
DTEND;VALUE=DATE:20180802
DTSTAMP:20260423T034716
CREATED:20180416T160019Z
LAST-MODIFIED:20180416T160019Z
UID:7518-1533081600-1533167999@lawtonproud.com
SUMMARY:Online Basic Bird Watching Class
DESCRIPTION:  \n1. Birds that are unique \n2. How To recognize birds\, by sight\, sound and flight and how use field guide \n3. Identification birds by body size\, beak size\, and feathers \n4. Learn natural history of birds in world \n5. Where look for birds regionally \n6. Ask students if there are other topics they want to learn about. What is best timed day to spot birds? \n7. Binoculars and other equipment needed to spot birds needed a tripod or etc. \n8. Migration pattern of birds \n$46.00 per adult $12.00 per child and $65.00 per group and family. \ncontact dallins549@gmail.com or call me at 208-351-3407. \nMy class will be on google class. I will give you code for class.
URL:https://lawtonproud.com/event/online-basic-bird-watching-class/
END:VEVENT
BEGIN:VEVENT
DTSTART;TZID=America/Chicago:20180824T173000
DTEND;TZID=America/Chicago:20180824T223000
DTSTAMP:20260423T034716
CREATED:20180423T145521Z
LAST-MODIFIED:20180423T145521Z
UID:7527-1535131800-1535149800@lawtonproud.com
SUMMARY:Apache Balloon Fest.
DESCRIPTION:• 20 Hot Air Balloons\n• Balloon Rides (Fri/Sat/Sun)\n• Balloon Glows (Fri/Sat Nights)\n• Synchronized Kite Flying Team\n• Kid’s Zone\n• Specialty Vendor Booths \n• Food Trucks\n• Frozen Margarita Oasis\n• Beer Tent\n• Wine Bar\n• Live Music\n• Balloon Fest is FREE to Attend \nFor more info.: \nLee Bayless\n855.248.5905\nInfo@ApacheBalloonFest.com\nhttps://www.apacheballoonfest.com/
URL:https://lawtonproud.com/event/apache-balloon-fest-2/
END:VEVENT
BEGIN:VEVENT
DTSTART;TZID=America/Chicago:20180825T080000
DTEND;TZID=America/Chicago:20180825T220000
DTSTAMP:20260423T034716
CREATED:20180423T145336Z
LAST-MODIFIED:20180423T145336Z
UID:7526-1535184000-1535234400@lawtonproud.com
SUMMARY:Apache Balloon Fest
DESCRIPTION:• 20 Hot Air Balloons\n• Balloon Rides (Fri/Sat/Sun)\n• Balloon Glows (Fri/Sat Nights)\n• Synchronized Kite Flying Team\n• Kid’s Zone\n• Specialty Vendor Booths \n• Food Trucks\n• Frozen Margarita Oasis\n• Beer Tent\n• Wine Bar\n• Live Music\n• Balloon Fest is FREE
URL:https://lawtonproud.com/event/apache-balloon-fest/
LOCATION:Apache Casino Hotel\, 2315 E Gore Blvd\, Lawton\, OK\, 73501\, United States
END:VEVENT
BEGIN:VEVENT
DTSTART;TZID=America/Chicago:20180928T170000
DTEND;TZID=America/Chicago:20180928T220000
DTSTAMP:20260423T034716
CREATED:20180224T164507Z
LAST-MODIFIED:20180224T164507Z
UID:7365-1538154000-1538172000@lawtonproud.com
SUMMARY:International Festival
DESCRIPTION:
URL:https://lawtonproud.com/event/international-festival-5/
LOCATION:Elmer Thomas Park\, 501 NW Ferris Ave  \, Lawton\, OK 73507\, 73507\, United States
END:VEVENT
BEGIN:VEVENT
DTSTART;TZID=America/Chicago:20180930T120000
DTEND;TZID=America/Chicago:20180930T170000
DTSTAMP:20260423T034716
CREATED:20180224T164702Z
LAST-MODIFIED:20180224T164702Z
UID:7367-1538308800-1538326800@lawtonproud.com
SUMMARY:International Festival
DESCRIPTION:
URL:https://lawtonproud.com/event/international-festival-6/
LOCATION:Elmer Thomas Park\, 501 NW Ferris Ave  \, Lawton\, OK 73507\, 73507\, United States
END:VEVENT
BEGIN:VEVENT
DTSTART;VALUE=DATE:20181025
DTEND;VALUE=DATE:20181026
DTSTAMP:20260423T034716
CREATED:20180423T135448Z
LAST-MODIFIED:20180423T135448Z
UID:7520-1540425600-1540511999@lawtonproud.com
SUMMARY:Live2Lead presented by Lawton Rotary
DESCRIPTION:Time TBA
URL:https://lawtonproud.com/event/live2lead-presented-lawton-rotary/
LOCATION:Lawton First Assembly\, 2201 NW 82nd St\, Lawton\, 73505
END:VEVENT
BEGIN:VEVENT
DTSTART;VALUE=DATE:20191130
DTEND;VALUE=DATE:20191201
DTSTAMP:20260423T034716
CREATED:20191121T155807Z
LAST-MODIFIED:20191121T161729Z
UID:7603-1575072000-1575158399@lawtonproud.com
SUMMARY:Shop Small Saturday
DESCRIPTION:Black Friday is the biggest shopping day of the year – for large chains – but what about small\, locally owned businesses? The Lawton Fort Sill Chamber of Commerce is teaming up with American Express to promote Shop Small Saturday in our community.#ShopSmall Lawton Fort Sill is on Saturday\, November 30th! \nWant to add your business to our participating small business list? Sign up here \nShare Your Support With Free Downloadable Materials here.
URL:https://lawtonproud.com/event/shop-small-saturday/
END:VEVENT
END:VCALENDAR