BEGIN:VCALENDAR
VERSION:2.0
PRODID:-//Lawton Proud - ECPv6.6.4.2//NONSGML v1.0//EN
CALSCALE:GREGORIAN
METHOD:PUBLISH
X-WR-CALNAME:Lawton Proud
X-ORIGINAL-URL:https://lawtonproud.com
X-WR-CALDESC:Events for Lawton Proud
REFRESH-INTERVAL;VALUE=DURATION:PT1H
X-Robots-Tag:noindex
X-PUBLISHED-TTL:PT1H
BEGIN:VTIMEZONE
TZID:America/Chicago
BEGIN:DAYLIGHT
TZOFFSETFROM:-0600
TZOFFSETTO:-0500
TZNAME:CDT
DTSTART:20170312T080000
END:DAYLIGHT
BEGIN:STANDARD
TZOFFSETFROM:-0500
TZOFFSETTO:-0600
TZNAME:CST
DTSTART:20171105T070000
END:STANDARD
END:VTIMEZONE
BEGIN:VEVENT
DTSTART;TZID=America/Chicago:20170617T130000
DTEND;TZID=America/Chicago:20170617T150000
DTSTAMP:20260419T072336
CREATED:20170607T210038Z
LAST-MODIFIED:20170607T210038Z
UID:6727-1497704400-1497711600@lawtonproud.com
SUMMARY:Father's Day Card Workshop
DESCRIPTION:Create original\, made-from-the-heart cards for all the special fathers you know! Don’t forget about grandpas\, uncles\, brothers\, etc!
URL:https://lawtonproud.com/event/fathers-day-card-workshop/
LOCATION:NYE Library
END:VEVENT
BEGIN:VEVENT
DTSTART;TZID=America/Chicago:20170617T100000
DTEND;TZID=America/Chicago:20170617T190000
DTSTAMP:20260419T072336
CREATED:20170606T200649Z
LAST-MODIFIED:20170606T200649Z
UID:6719-1497693600-1497726000@lawtonproud.com
SUMMARY:T Rex Planet
DESCRIPTION:T. REX PLANET offers a range of fun and engaging activities designed to appeal to and engage all members of the family. Walk through our live dinosaur and fossil exhibits learning interesting facts about each one. Our massive Mamenchisaurus and two Tyrannosaurus rexs’ are sure to make you feel quite small. Then head on over to our ongoing concert with our three dinosaur band who play catchy tunes about dinosaurs that even adults will enjoy.\nChildren under the age of 1 get in for free. \nKids can choose from many activities that they may never have an opportunity to experience again such as dancing with the dinosaur band or digging up a dinosaur fossil or even riding a friendly walking dinosaur. As for mementos\, you can purchase a mini replica of your favorite dinosaur. \n$3 off ticket price per military ID at Box Office.(Discount not available for online purchases) \n$3 off ticket price for senior citizens at Box Office.(Discount not available for online purchases) \nhttp://www.TRexPlanet.com to purchase tickets online \nHours are:\nFriday 4pm – 9pm\nSaturday 10am – 9pm\nSunday 11am – 7pm
URL:https://lawtonproud.com/event/t-rex-planet-2/
LOCATION:Comanche County Fairgrounds\, 920 SW Sheridan Rd\, Lawton\, OK 73505\, 73505
END:VEVENT
BEGIN:VEVENT
DTSTART;TZID=America/Chicago:20170617T083000
DTEND;TZID=America/Chicago:20170617T130000
DTSTAMP:20260419T072336
CREATED:20170607T205841Z
LAST-MODIFIED:20170607T205841Z
UID:6726-1497688200-1497704400@lawtonproud.com
SUMMARY:Toastmasters Leadership Institute (TLI) Training
DESCRIPTION:Join the Toastmasters of Oklahoma for a day full of Leadership Training.
URL:https://lawtonproud.com/event/toastmasters-leadership-institute-tli-training/
LOCATION:Center for Creative Living
END:VEVENT
BEGIN:VEVENT
DTSTART;TZID=America/Chicago:20170617T063000
DTEND;TZID=America/Chicago:20170617T063000
DTSTAMP:20260419T072336
CREATED:20170519T145014Z
LAST-MODIFIED:20170519T152018Z
UID:6605-1497681000-1497681000@lawtonproud.com
SUMMARY:Wildlife Tour at the Wichita Mountains Wildlife Refuge
DESCRIPTION:These programs are intended for individuals and family groups. Reservations are limited to one family (up to six individuals) per telephone call. Children must be at least eight years old. Restrooms are not available on the tours. Wheelchair access is available if requested at time of reservation. Refuge tours are dependent upon wildlife and weather conditions. They may be cancelled or modified if adverse conditions exist. Program dates are tentative as of 11/16. Reservations are required. Reservations will be retained until 10 minutes before each program. After that time\, stand-bys will be accepted. If the bus seating is filled after accepting stand-bys\, late arrivals with reservations will not be able to participate in the program. For reservations call (580) 429-2197\, weekdays from 9 am to 5 pm\, starting on the reservation date indicated. For additional information visit: www.fws.gov/refuge/Wichita_Mountains/ \n 
URL:https://lawtonproud.com/event/wildlife-tour-wichita-mountains-wildlife-refuge/
LOCATION:Wichita Moutains Wildlife Refuge Visitor Center\, OK\, United States
END:VEVENT
BEGIN:VEVENT
DTSTART;TZID=America/Chicago:20170616T190000
DTEND;TZID=America/Chicago:20170616T210000
DTSTAMP:20260419T072336
CREATED:20170523T141951Z
LAST-MODIFIED:20170602T151419Z
UID:6658-1497639600-1497646800@lawtonproud.com
SUMMARY:Comedy Hypnosis Show
DESCRIPTION:
URL:https://lawtonproud.com/event/comedy-hypnosis-show/
LOCATION:Diamond Event Center & Catering Company\, 1320 Homestead Drive Suite A\, Lawton\, OK\, 73505
END:VEVENT
BEGIN:VEVENT
DTSTART;TZID=America/Chicago:20170616T160000
DTEND;TZID=America/Chicago:20170616T210000
DTSTAMP:20260419T072336
CREATED:20170606T200249Z
LAST-MODIFIED:20170606T200442Z
UID:6717-1497628800-1497646800@lawtonproud.com
SUMMARY:T Rex Planet
DESCRIPTION:Come experience T-Rex Planet in our Expo building! \nT. REX PLANET offers a range of fun and engaging activities designed to appeal to and engage all members of the family. Walk through our live dinosaur and fossil exhibits learning interesting facts about each one. Our massive Mamenchisaurus and two Tyrannosaurus rexs’ are sure to make you feel quite small. Then head on over to our ongoing concert with our three dinosaur band who play catchy tunes about dinosaurs that even adults will enjoy.\nChildren under the age of 1 get in for free. \nKids can choose from many activities that they may never have an opportunity to experience again such as dancing with the dinosaur band or digging up a dinosaur fossil or even riding a friendly walking dinosaur. As for mementos\, you can purchase a mini replica of your favorite dinosaur. \n$3 off ticket price per military ID at Box Office.(Discount not available for online purchases) \n$3 off ticket price for senior citizens at Box Office.(Discount not available for online) \nwww.TRexPlanet.com to purchase tickets online \nHours are:\nFriday 4pm – 9pm\nSaturday 10am – 9pm\nSunday 11am – 7pm
URL:https://lawtonproud.com/event/t-rex-planet/
LOCATION:Comanche County Fairgrounds\, 920 SW Sheridan Rd\, Lawton\, OK 73505\, 73505
END:VEVENT
BEGIN:VEVENT
DTSTART;TZID=America/Chicago:20170616T130000
DTEND;TZID=America/Chicago:20170616T163000
DTSTAMP:20260419T072336
CREATED:20170613T175539Z
LAST-MODIFIED:20170613T175539Z
UID:6744-1497618000-1497630600@lawtonproud.com
SUMMARY:Tobii Dynavox Discovery Lab
DESCRIPTION:The Tobii Dynavox Discovery Lab uses lecture and case studies to LEARN about communication access and education solutions for students with complex needs. You will then make your way through 3 interactive lab stations and DO guided hands‐on activities. Opportunities to APPLY your knowledge in practical ways will be provided. And you’ll leave the session with a handful of resources and practical tips that can be used the very next day! 2 seats open as of 6/8/17\, register soon!
URL:https://lawtonproud.com/event/tobii-dynavox-discovery-lab/
LOCATION:Comanche County Memorial Hospital\, 3401 W. Gore Blvd\, Lawton\, 73505
END:VEVENT
BEGIN:VEVENT
DTSTART;TZID=America/Chicago:20170616T120000
DTEND;TZID=America/Chicago:20170616T200000
DTSTAMP:20260419T072336
CREATED:20170608T191940Z
LAST-MODIFIED:20170608T191940Z
UID:6730-1497614400-1497643200@lawtonproud.com
SUMMARY:Spirit of Survival Training Kick-Off
DESCRIPTION:The SOS Training Kick-Off is just around the corner! Here are the details! For more info\, visit our website http://spiritofsurvival.com/
URL:https://lawtonproud.com/event/spirit-survival-training-kick-off/
LOCATION:Dick’s Sporting Goods\, 261 NW 2nd St\, Lawton\, OK\, 73501
END:VEVENT
BEGIN:VEVENT
DTSTART;TZID=America/Chicago:20170615T170000
DTEND;TZID=America/Chicago:20170615T200000
DTSTAMP:20260419T072336
CREATED:20170613T180135Z
LAST-MODIFIED:20170613T180135Z
UID:6747-1497546000-1497556800@lawtonproud.com
SUMMARY:Qdoba Fundraiser for Kealii's School of Polynesian Dance
DESCRIPTION:They will be hosting a fundraiser to help their haumāna purchase supplies to create costumes! Please join them between the hours of 5:00 PM to 8:00 PM\, enjoy the delicious food offered by Qdoba\, and watch the dancers perform for you! Theyhope to see you there.
URL:https://lawtonproud.com/event/qdoba-fundraiser/
LOCATION:Qdoba\, 1772 NW 82nd St\, Lawton\, OK\, 73505
END:VEVENT
BEGIN:VEVENT
DTSTART;TZID=America/Chicago:20170614T190000
DTEND;TZID=America/Chicago:20170614T210000
DTSTAMP:20260419T072336
CREATED:20170613T175036Z
LAST-MODIFIED:20170613T175036Z
UID:6739-1497466800-1497474000@lawtonproud.com
SUMMARY:Wednesday At The Bullpen
DESCRIPTION:This is a acoustic show Casey Abbe Seth Walters Jagger Self will be playing ..Happy hour 5-7 \, $1 domestic before the show Hope to see everyone out Must be 21 With Valid ID #livemusic #thecaseyabbeband
URL:https://lawtonproud.com/event/wedneday-at-the-bullpen/
LOCATION:Bullpen\, 11800 NW McClung Rd\, Lawton\, OK\, 73507
END:VEVENT
BEGIN:VEVENT
DTSTART;TZID=America/Chicago:20170614T170000
DTEND;TZID=America/Chicago:20170614T170000
DTSTAMP:20260419T072336
CREATED:20170606T195725Z
LAST-MODIFIED:20170606T195725Z
UID:6714-1497459600-1497459600@lawtonproud.com
SUMMARY:ASCS Sizzlin' Summer Speedweek
DESCRIPTION:Races at the Lawton Speedway!
URL:https://lawtonproud.com/event/ascs-sizzlin-summer-speedweek/
LOCATION:Lawton Speedway\, 3501 SW Sheridan Rd\, Lawton\, OK\, 73505\, United States
END:VEVENT
BEGIN:VEVENT
DTSTART;TZID=America/Chicago:20170614T110000
DTEND;TZID=America/Chicago:20170614T110000
DTSTAMP:20260419T072336
CREATED:20170613T175259Z
LAST-MODIFIED:20170613T175259Z
UID:6743-1497438000-1497438000@lawtonproud.com
SUMMARY:Infant Massage
DESCRIPTION:Children age birth-crawling and their caregivers are invited to learn basic infant massage techniques and to socialize and build community during this exciting stage of life. \nMust have DOD ID or visitors pass to have access to Ft. Sill.
URL:https://lawtonproud.com/event/infant-massage/
LOCATION:Graham Resiliency Training Campus\, Fort Sill 
END:VEVENT
BEGIN:VEVENT
DTSTART;TZID=America/Chicago:20170614T100000
DTEND;TZID=America/Chicago:20170614T104500
DTSTAMP:20260419T072336
CREATED:20170606T195958Z
LAST-MODIFIED:20170606T195958Z
UID:6716-1497434400-1497437100@lawtonproud.com
SUMMARY:Extreme Animas at the Lawton Public Library
DESCRIPTION:Come experience up close some extreme animals! \nRepeat performance at 2pm.
URL:https://lawtonproud.com/event/extreme-animas-lawton-public-library/
LOCATION:Lawton Public Library\, 110 SW 4th ST\, Lawton\, 73501
END:VEVENT
BEGIN:VEVENT
DTSTART;TZID=America/Chicago:20170613T190000
DTEND;TZID=America/Chicago:20170720T200000
DTSTAMP:20260419T072336
CREATED:20170607T210532Z
LAST-MODIFIED:20170607T210547Z
UID:6728-1497380400-1500580800@lawtonproud.com
SUMMARY:Yoga 101
DESCRIPTION:Enrollment is now open for the next session of Yoga 101. This session starts on Tuesday\, June 13th and ends on Thursday\, July 20th.
URL:https://lawtonproud.com/event/yoga-101/
LOCATION:Yoga Kula\, 720 NW Fort Sill Blvd #4\, Lawton\, OK\, 73507 \, United States
END:VEVENT
BEGIN:VEVENT
DTSTART;TZID=America/Chicago:20170613T183000
DTEND;TZID=America/Chicago:20170613T213000
DTSTAMP:20260419T072336
CREATED:20170613T175902Z
LAST-MODIFIED:20170613T175902Z
UID:6746-1497378600-1497389400@lawtonproud.com
SUMMARY:Open Mic Night!
DESCRIPTION:Come on out and rant or rave at Open Mic Night! You can read poetry\, sing\, make announcements about events\, rant about politics\, whatever you want because it’s Open Mic! \nThis event often has adult language and content so not kid friendly. Just a note to keep you informed before you get shocked by it! \nIt is FREE and open to the public and coffee is always available\, donations welcome to keep the pot filled! Some sodas are available for purchase (50 cents/can) as well. You can bring snacks or your own beverages\, too!
URL:https://lawtonproud.com/event/open-mic-night/
LOCATION:Unity Lawton\, 1502 SW I Ave\, Lawton\, OK\, 73501
END:VEVENT
BEGIN:VEVENT
DTSTART;TZID=America/Chicago:20170612T183000
DTEND;TZID=America/Chicago:20170612T200000
DTSTAMP:20260419T072336
CREATED:20170608T192656Z
LAST-MODIFIED:20170608T192656Z
UID:6737-1497292200-1497297600@lawtonproud.com
SUMMARY:Confessions of a Quilt Maker
DESCRIPTION:Janet Leigh North will present a Trunk show and a talk on Confessions of a Quilt Maker
URL:https://lawtonproud.com/event/confessions-quilt-maker/
LOCATION:First Baptist West\, 7302 NW Cache Rd\, Lawton\, 73505
END:VEVENT
BEGIN:VEVENT
DTSTART;TZID=America/Chicago:20170610T190000
DTEND;TZID=America/Chicago:20170610T210000
DTSTAMP:20260419T072336
CREATED:20170602T151237Z
LAST-MODIFIED:20170602T151237Z
UID:6702-1497121200-1497128400@lawtonproud.com
SUMMARY:The Bells of Liberty Concert
DESCRIPTION:  \nThe Lawton Pro Musica presents The Bells of Liberty. \n 
URL:https://lawtonproud.com/event/bells-liberty-concert/
LOCATION:City Hall
END:VEVENT
BEGIN:VEVENT
DTSTART;TZID=America/Chicago:20170610T180000
DTEND;TZID=America/Chicago:20170610T210000
DTSTAMP:20260419T072336
CREATED:20170530T204128Z
LAST-MODIFIED:20170530T204128Z
UID:6679-1497117600-1497128400@lawtonproud.com
SUMMARY:Roughneck Roller Derby @580 RollerGirls
DESCRIPTION:Come see what #RollerDerby is all about! They are proud of their sport and want to show the world what they can do. They promote sportsmanship\, empowerment of women\, and fitness! Message them if you’re interested in trying a new sport! They would be glad to have you! No skating experience is necessary! They are always actively recruiting Skaters\, Referees\, and Non-Skating Officials (NSOs). \nTICKETS & PRICING:\nSuicide Seats $15\nGeneral Admission $12\nStudent & Military $10\nKids 10 & Under FREE \nFor Discount Tickets before Game Day\, please visit http://580vsroughnecks.bpt.me/ \nWe at 580 RollerGirls offer gratitude to our friends and family in the community who offer us undying support so that we can represent Lawton! We can’t do it without you! We are a 501(c)3 nonprofit league and we need support to travel\, pay for uniforms\, cover tournament fees\, practice and game venues\, equipment\, and much more! THANK YOU!
URL:https://lawtonproud.com/event/rouchneck-roller-derby-580-rollergirls/
LOCATION:Comanche County Fairgrounds\, 920 SW Sheridan Rd\, Lawton\, OK 73505\, 73505
END:VEVENT
BEGIN:VEVENT
DTSTART;TZID=America/Chicago:20170610T180000
DTEND;TZID=America/Chicago:20170610T200000
DTSTAMP:20260419T072336
CREATED:20170602T150602Z
LAST-MODIFIED:20170602T150602Z
UID:6698-1497117600-1497124800@lawtonproud.com
SUMMARY:Glass With Class\, Prickly Dish
DESCRIPTION:Join A Pigment of Your Imagination to design your own glass Prickly Dish. \n 
URL:https://lawtonproud.com/event/glass-class-prickly-dish/
LOCATION:A Pigment of Your Imagination\, 10 NW Sheridan Rd\, Lawton\, 73505
END:VEVENT
BEGIN:VEVENT
DTSTART;TZID=America/Chicago:20170610T180000
DTEND;TZID=America/Chicago:20170610T180000
DTSTAMP:20260419T072336
CREATED:20170608T191636Z
LAST-MODIFIED:20170608T191636Z
UID:6729-1497117600-1497117600@lawtonproud.com
SUMMARY:Lawton Singles Mingle Night
DESCRIPTION:Come have a great time meeting other singles in Lawton. Meet at Applebees for Happy Hour at 6pm and then head on over to Patriot 13 for the 8pm showing of the movie Alien Covenant.
URL:https://lawtonproud.com/event/lawton-singles-mingle-night/
LOCATION:Applebees
END:VEVENT
BEGIN:VEVENT
DTSTART;TZID=America/Chicago:20170610T173000
DTEND;TZID=America/Chicago:20170610T173000
DTSTAMP:20260419T072336
CREATED:20170519T144742Z
LAST-MODIFIED:20170519T152042Z
UID:6604-1497115800-1497115800@lawtonproud.com
SUMMARY:Wildlife Tour at the Wichita Mountains Wildlife Refuge
DESCRIPTION:These programs are intended for individuals and family groups. Reservations are limited to one family (up to six individuals) per telephone call. Children must be at least eight years old. Restrooms are not available on the tours. Wheelchair access is available if requested at time of reservation. Refuge tours are dependent upon wildlife and weather conditions. They may be cancelled or modified if adverse conditions exist. Program dates are tentative as of 11/16. Reservations are required. Reservations will be retained until 10 minutes before each program. After that time\, stand-bys will be accepted. If the bus seating is filled after accepting stand-bys\, late arrivals with reservations will not be able to participate in the program. For reservations call (580) 429-2197\, weekdays from 9 am to 5 pm\, starting on the reservation date indicated. For additional information visit: www.fws.gov/refuge/Wichita_Mountains/ \n 
URL:https://lawtonproud.com/event/wilflife-tour/
LOCATION:Wichita Moutains Wildlife Refuge Visitor Center\, OK\, United States
END:VEVENT
BEGIN:VEVENT
DTSTART;TZID=America/Chicago:20170610T120000
DTEND;TZID=America/Chicago:20170610T150000
DTSTAMP:20260419T072336
CREATED:20170602T145838Z
LAST-MODIFIED:20170602T150348Z
UID:6696-1497096000-1497106800@lawtonproud.com
SUMMARY:Democratic Party Spring Fundraiser Picnic
DESCRIPTION:The Democratic Party will have their spring fundraiser picnic at the West Pavilion of Elmer Thomas Park. \n 
URL:https://lawtonproud.com/event/democratic-party-spring-fundraiser-picnic/
LOCATION:Elmer Thomas Park\, 501 NW Ferris Ave  \, Lawton\, OK 73507\, 73507\, United States
END:VEVENT
BEGIN:VEVENT
DTSTART;TZID=America/Chicago:20170609T181500
DTEND;TZID=America/Chicago:20170609T220000
DTSTAMP:20260419T072336
CREATED:20170417T135210Z
LAST-MODIFIED:20170417T135210Z
UID:6493-1497032100-1497045600@lawtonproud.com
SUMMARY:The Leadership Lawton Fort Sill Board of Directors Wine Dine and Dance
DESCRIPTION: A $40 donation includes wine tasting\, hors d’oeuvres\, an auction\, door prizes and live music by the Allen Biffle band.
URL:https://lawtonproud.com/event/leadership-lawton-fort-sill-board-directors-wine-dine-dance/
LOCATION:Apache Casino Hotel\, 2315 E Gore Blvd\, Lawton\, OK\, 73501\, United States
END:VEVENT
BEGIN:VEVENT
DTSTART;TZID=America/Chicago:20170609T090000
DTEND;TZID=America/Chicago:20170609T120000
DTSTAMP:20260419T072336
CREATED:20170414T142934Z
LAST-MODIFIED:20170414T142934Z
UID:6483-1496998800-1497009600@lawtonproud.com
SUMMARY:Cameron University Fine Arts Summer Institute
DESCRIPTION:The institute is for ages 13-18.  The first session will focus on drawing on June 9th\, 16th\, 23rd and 30th.
URL:https://lawtonproud.com/event/cameron-university-fine-arts-summer-institute/
LOCATION:Cameron University\, 2800 W Gore Blvd \, Lawton\, 73505
END:VEVENT
BEGIN:VEVENT
DTSTART;TZID=America/Chicago:20170609T080000
DTEND;TZID=America/Chicago:20170609T170000
DTSTAMP:20260419T072336
CREATED:20170530T203405Z
LAST-MODIFIED:20170530T203405Z
UID:6677-1496995200-1497027600@lawtonproud.com
SUMMARY:Legislative Wrap Up Luncheon
DESCRIPTION:Come hear what the Legislators have accomplished while in session.  Lunch is included. Comanche County Memorial Hospital will sponsor this event.
URL:https://lawtonproud.com/event/legislative-wrap-luncheon/
LOCATION:Apache Casino Hotel\, 2315 E Gore Blvd\, Lawton\, OK\, 73501\, United States
END:VEVENT
BEGIN:VEVENT
DTSTART;TZID=America/Chicago:20170607T110000
DTEND;TZID=America/Chicago:20170607T120000
DTSTAMP:20260419T072336
CREATED:20170601T134928Z
LAST-MODIFIED:20170601T134928Z
UID:6684-1496833200-1496836800@lawtonproud.com
SUMMARY:Parents Night Entertainment
DESCRIPTION:Slough Illusions\, an illusionist/ evangelist\,  will perform for this family day show.
URL:https://lawtonproud.com/event/parents-night-entertainment-first-baptist-east/
END:VEVENT
BEGIN:VEVENT
DTSTART;TZID=America/Chicago:20170606T190000
DTEND;TZID=America/Chicago:20170606T210000
DTSTAMP:20260419T072336
CREATED:20170601T135517Z
LAST-MODIFIED:20170601T135517Z
UID:6687-1496775600-1496782800@lawtonproud.com
SUMMARY:Lose for the Cruise competition
DESCRIPTION:The person that loses the most percentage of their weight wins a Caribbean cruise!
URL:https://lawtonproud.com/event/lose-cruise-competition/
LOCATION:Lawton Fit\, 201 SW C AVE\, SUITE B\, LAWTON\, OK\, 73501
END:VEVENT
BEGIN:VEVENT
DTSTART;TZID=America/Chicago:20170605T090000
DTEND;TZID=America/Chicago:20170608T160000
DTSTAMP:20260419T072336
CREATED:20170414T142555Z
LAST-MODIFIED:20170414T142555Z
UID:6482-1496653200-1496937600@lawtonproud.com
SUMMARY:Boys’ and Girls’ Individual Basketball Camp
DESCRIPTION:Students in kindergarten through 8th grade are welcome to attend. The camp costs $100 for grades K-2 and $175 for grades 3-8.
URL:https://lawtonproud.com/event/boys-girls-individual-basketball-camp/
LOCATION:Cameron University\, 2800 W Gore Blvd \, Lawton\, 73505
END:VEVENT
BEGIN:VEVENT
DTSTART;TZID=America/Chicago:20170605T083000
DTEND;TZID=America/Chicago:20170605T120000
DTSTAMP:20260419T072336
CREATED:20170414T143233Z
LAST-MODIFIED:20170414T143233Z
UID:6484-1496651400-1496664000@lawtonproud.com
SUMMARY:The Creative Expressions Summer Art Camp
DESCRIPTION:This event is hosted by the Cameron University Art Department and will be held in four sessions. The first session will be June 5th-8th and June 12th-15th. This event is for students ages 6-12.
URL:https://lawtonproud.com/event/creative-expressions-summer-art-camp/
LOCATION:Cameron University\, 2800 W Gore Blvd \, Lawton\, 73505
END:VEVENT
BEGIN:VEVENT
DTSTART;TZID=America/Chicago:20170605T080000
DTEND;TZID=America/Chicago:20170605T170000
DTSTAMP:20260419T072336
CREATED:20170601T140154Z
LAST-MODIFIED:20170601T140344Z
UID:6690-1496649600-1496682000@lawtonproud.com
SUMMARY:British Soccer Camp
DESCRIPTION:Lawton Soccer Club will have a British Soccer Camp hosted by Challenger Sports of Edmond\, OK. See the link below for pricing options.
URL:https://lawtonproud.com/event/british-soccer-camp/
END:VEVENT
END:VCALENDAR