BEGIN:VCALENDAR
VERSION:2.0
PRODID:-//Lawton Proud - ECPv6.6.4.2//NONSGML v1.0//EN
CALSCALE:GREGORIAN
METHOD:PUBLISH
X-ORIGINAL-URL:https://lawtonproud.com
X-WR-CALDESC:Events for Lawton Proud
REFRESH-INTERVAL;VALUE=DURATION:PT1H
X-Robots-Tag:noindex
X-PUBLISHED-TTL:PT1H
BEGIN:VTIMEZONE
TZID:America/Chicago
BEGIN:DAYLIGHT
TZOFFSETFROM:-0600
TZOFFSETTO:-0500
TZNAME:CDT
DTSTART:20170312T080000
END:DAYLIGHT
BEGIN:STANDARD
TZOFFSETFROM:-0500
TZOFFSETTO:-0600
TZNAME:CST
DTSTART:20171105T070000
END:STANDARD
END:VTIMEZONE
BEGIN:VEVENT
DTSTART;TZID=America/Chicago:20170311T070000
DTEND;TZID=America/Chicago:20170311T070000
DTSTAMP:20260421T030751
CREATED:20170124T165259Z
LAST-MODIFIED:20170124T165259Z
UID:6024-1489215600-1489215600@lawtonproud.com
SUMMARY:Indoor Multi-Person Garage Sale
DESCRIPTION:Hosting Indoor Multi-Person Garage Sale in our heated event area. The second Saturday of every month\, beginning January 14\, 2017\, we will be opening at 7am and hosting vendors from all around the local area (and further) to showcase their wares. Why sit outside in the cold? Why spend countless hours promoting your event when you and other like minded sellers can your efforts? Coffee and beverages\, as well as breakfast items will be available for purchase. Come get our of the cold and just focus on selling your stuff at the American Legion Post #29 605 SW 11th Street Lawton\, OK 73501.\nCall Gregory @ (580)353-5015 to join other like minded vendors and reserve a spot today.
URL:https://lawtonproud.com/event/indoor-multi-person-garage-sale-4/
LOCATION:American Legion #29\, 605 SW 11th Street\, LAWTON\, OK\, 73501
END:VEVENT
BEGIN:VEVENT
DTSTART;TZID=America/Chicago:20170311T110000
DTEND;TZID=America/Chicago:20170311T140000
DTSTAMP:20260421T030751
CREATED:20170320T034650Z
LAST-MODIFIED:20170320T034650Z
UID:6261-1489230000-1489240800@lawtonproud.com
SUMMARY:Ranch Oaks Community Garden
DESCRIPTION:COMING UP! There are a few things they still need to get the garden going. The list is in the comments section.Message them if you can help!! Learn how to garden at home or be a part of the community garden for a small fee! Come out for some free food and enjoy YOUR community!\nhttp://paypal.me/RanchOaksGarden
URL:https://lawtonproud.com/event/ranch-oaks-community-garden/
LOCATION:Ranch Oaks
END:VEVENT
BEGIN:VEVENT
DTSTART;TZID=America/Chicago:20170311T161500
DTEND;TZID=America/Chicago:20170311T180000
DTSTAMP:20260421T030751
CREATED:20170309T211539Z
LAST-MODIFIED:20170309T211539Z
UID:6258-1489248900-1489255200@lawtonproud.com
SUMMARY:Jenn Brink Book Signing
DESCRIPTION:Jenn Brink\, bestselling author of the Jessica Hart series\, will be signing her books at Chianti Wine Bar located at 5370 NW Cache Rd\, Suite 5\, Lawton\, OK on Saturday\, March 11 from 4:15 to 6pm. This event is open to the public. \nJenn is the author of the Jessica Hart series (Black Roses\, Cerulean Seas\, and Silver Bells).
URL:https://lawtonproud.com/event/jenn-brink-book-signing/
LOCATION:Chianti Wine Bar\, 5370 NW Cache Rd #5\, Lawton
END:VEVENT
BEGIN:VEVENT
DTSTART;TZID=America/Chicago:20170313T090000
DTEND;TZID=America/Chicago:20170313T090000
DTSTAMP:20260421T030751
CREATED:20170301T194835Z
LAST-MODIFIED:20170301T194835Z
UID:6251-1489395600-1489395600@lawtonproud.com
SUMMARY:Softball Clinic
DESCRIPTION:The Recreation Services will host preseason baseball and softball camps for the upcoming season. The camps are free for youth ages 8 – 16. Visit www.teamsideline.com/lawton to register. The softball camp will be held March 13th at Eastside Park. Check-in begins at 9:00 am. The baseball camp will be held March 14th at Grandview Sports Complex. Check-in begins at 9:00 am. For more information contact the Sports Office at 580 581-3400.
URL:https://lawtonproud.com/event/softball-baseball-clini/
LOCATION:East Side Park\, Lawton\, OK
END:VEVENT
BEGIN:VEVENT
DTSTART;TZID=America/Chicago:20170313T100000
DTEND;TZID=America/Chicago:20170313T100000
DTSTAMP:20260421T030751
CREATED:20170130T195346Z
LAST-MODIFIED:20170130T195558Z
UID:6042-1489399200-1489399200@lawtonproud.com
SUMMARY:MacArthur High School Soccer 4 Man Golf Scramble
DESCRIPTION:Macarthur High School Soccer is hosting its 1st ever 4 Man Golf Scramble. We are trying to raise money to purchase new uniforms and equipment. We will have a prizes to give away for longest drive contest\, longest putt contest\, and for the winning team of the scramble. Texas Roadhouse will be providing lunch before we tee off. Come out and support the boys and girls of Macarthur High School Soccer. GO BIG MAC!!! \nFor more information please contact me at Marcus.williams@lawtonps.org
URL:https://lawtonproud.com/event/macarthur-high-school-4-man-golf-scramble/
LOCATION:Fort Sill Golf Course\, 1270 Quinette Rd\,\, Fort Sill\, 73503
ORGANIZER;CN="Marcus Williams":MAILTO:marcus.williams@lawtonps.org
END:VEVENT
BEGIN:VEVENT
DTSTART;TZID=America/Chicago:20170313T180000
DTEND;TZID=America/Chicago:20170313T200000
DTSTAMP:20260421T030751
CREATED:20170320T034855Z
LAST-MODIFIED:20170320T034855Z
UID:6264-1489428000-1489435200@lawtonproud.com
SUMMARY:Grow Your Business
DESCRIPTION:Our own Morgan Gould will be speaking on growing your business at the Medicine Park Community Center.
URL:https://lawtonproud.com/event/grow-your-business/
LOCATION:Medicine Park\, Medicine Park\, 73557
END:VEVENT
BEGIN:VEVENT
DTSTART;TZID=America/Chicago:20170314T090000
DTEND;TZID=America/Chicago:20170314T090000
DTSTAMP:20260421T030751
CREATED:20170301T195121Z
LAST-MODIFIED:20170301T202848Z
UID:6252-1489482000-1489482000@lawtonproud.com
SUMMARY:Baseball Clinic
DESCRIPTION:The Recreation Services will host preseason baseball and softball camps for the upcoming season. The camps are free for youth ages 8 – 16. Visit www.teamsideline.com/lawton to register. The softball camp will be held March 13th at Eastside Park. Check-in begins at 9:00 am. The baseball camp will be held March 14th at Grandview Sports Complex. Check-in begins at 9:00 am. For more information contact the Sports Office at 580 581-3400.
URL:https://lawtonproud.com/event/baseball-clinic/
LOCATION:Grandview Field\, 52nd and Beta\, Lawton\, OK\, 73505
END:VEVENT
BEGIN:VEVENT
DTSTART;TZID=America/Chicago:20170316T173000
DTEND;TZID=America/Chicago:20170316T173000
DTSTAMP:20260421T030751
CREATED:20170131T162459Z
LAST-MODIFIED:20170131T162459Z
UID:6104-1489685400-1489685400@lawtonproud.com
SUMMARY:3 Mile Thursday
DESCRIPTION:Get up and get moving! That’s the idea behind Three-Mile Thursday! The event will take place every third Thursday of the month at 5:30 p.m. in the Billingsley Hyundai showroom.
URL:https://lawtonproud.com/event/3-mile-thursday-9/
LOCATION:Billingsley Hyundai\, 502 NW 82nd St.\, Lawton\, 73505
END:VEVENT
BEGIN:VEVENT
DTSTART;VALUE=DATE:20170317
DTEND;VALUE=DATE:20170319
DTSTAMP:20260421T030751
CREATED:20170301T185518Z
LAST-MODIFIED:20170301T185558Z
UID:6249-1489708800-1489881599@lawtonproud.com
SUMMARY:Parkstomp at Medicine Park
DESCRIPTION:Great music at Medicine Park from March 17 -19. Bring a lawn chair and enjoy some great music.
URL:https://lawtonproud.com/event/parkstomp/
LOCATION:Medicine Park\, Medicine Park\, 73557
END:VEVENT
BEGIN:VEVENT
DTSTART;TZID=America/Chicago:20170317T100000
DTEND;TZID=America/Chicago:20170318T150000
DTSTAMP:20260421T030751
CREATED:20170301T173634Z
LAST-MODIFIED:20170301T173634Z
UID:6238-1489744800-1489849200@lawtonproud.com
SUMMARY:Keith Coast School of Magic
DESCRIPTION:KEITH COAST PRESENTS: The School of Magic!\nAre you ready to enroll in the School of Magic?! This Spring Break you have the opportunity to learn the art of magic and illusion from the one and only Keith Coast. He has traveled internationally performing magic and comedy for family-style audiences across the globe\, and now he’s come back to his hometown to teach students his favorite routines! \nIntro to Magic!\nMarch 17\, 2017 10:00AM-12:00PM\nYour instructor\, Keith Coast\, helps you begin your journey in the art of magic and illusion. This course is designed for any beginner to learn simple and amazing effects with common items at hand. You will learn routines involving playing cards\, coins\, ropes\, jewelry\, and more! This course will be a basic introduction for ages 6-18. \nMake-A-Wand Workshop\nMarch 17\, 2017 2:00PM-4:00PM\nIn this workshop\, we will provide all the supplies needed to make your very own “Harry Potter-style” magic wand! Each student will be allowed to design and make their own wand\, which they can use in their own unique routines later on. \nWand Magic and More!\nMarch 18\, 2017 10:00AM-12:00PM\nToday you will pick up your wand and learn how to use it! In this workshop\, your professor will instruct you in the proper ways to use your wand in the art of illusion. Learn several techniques and routines with your wand\, and then learn more tricks with everyday items you find around your home. \nMagic Show with Keith Coast\nMarch 18\, 2017 2:00PM-3:00PM\nCome back one more time to sit back\, relax\, and enjoy the show. Keith Coast will perform his favorite magic and comedy routines that is guaranteed to be fun for the whole family! You won’t want to miss this show! \nPLEASE NOTE: This event is possible through a partnership with the Friends of the Library\, who will receive a portion of the proceeds. \nTo make sure enough supplies are provided\, register your ENROLLMENT here by MARCH 14! Print out your confirmation and bring to the first day of class.
URL:https://lawtonproud.com/event/keith-coast-magic-show/
LOCATION:Lawton Public Library\, 110 SW 4th ST\, Lawton\, 73501
END:VEVENT
BEGIN:VEVENT
DTSTART;TZID=America/Chicago:20170318T090000
DTEND;TZID=America/Chicago:20170318T110000
DTSTAMP:20260421T030751
CREATED:20170320T035340Z
LAST-MODIFIED:20170320T035340Z
UID:6265-1489827600-1489834800@lawtonproud.com
SUMMARY:Lawton Council of the Blind Pancake Breakfast
DESCRIPTION:Fundraiser for Lawton Council of the Blind Programs\n5 Dollars per person
URL:https://lawtonproud.com/event/lawton-council-blind-pancake-breakfast/
LOCATION:First Presbyterian Church Lawton
END:VEVENT
BEGIN:VEVENT
DTSTART;TZID=America/Chicago:20170318T140000
DTEND;TZID=America/Chicago:20170318T180000
DTSTAMP:20260421T030751
CREATED:20170223T212739Z
LAST-MODIFIED:20170301T183307Z
UID:6185-1489845600-1489860000@lawtonproud.com
SUMMARY:Leadership Lawton Fort Sill Class XXVII Fundraiser
DESCRIPTION:Leadership Lawton Class 27 presents “Knocking Down Poverty One Pin At A Time” they would love for you to be a part of their first fundraising event! Feel free to email them with any questions you might have. \n1st Place Winner get $250 \n32″ TV Giveaway
URL:https://lawtonproud.com/event/leadership-lawton-fort-sill-class-xxvii-fundraiser/
LOCATION:Thunderbird Lanes\, 4405 NW Cache Rd\, Lawton\, OK\, 73505\, United States
ORGANIZER;CN="":MAILTO:llfsclass27@gmail.com
END:VEVENT
BEGIN:VEVENT
DTSTART;TZID=America/Chicago:20170321T170000
DTEND;TZID=America/Chicago:20170321T193000
DTSTAMP:20260421T030751
CREATED:20170301T174137Z
LAST-MODIFIED:20170301T174137Z
UID:6239-1490115600-1490124600@lawtonproud.com
SUMMARY:Great Plains Region 3rd Annual Transition & Resource Fair
DESCRIPTION:The Great Plains Region Transition Team is hosting its annual transition and resource fair. The theme this year is “Dress for Success: Fashion Do’s and Don’ts”. The fair has a special focus on secondary transition for students 8th and up\, but ANYONE interested in services for persons with disabilities\, across the lifespan is invited. Over 20 vendors from various agencies will be present with resources and information. Door prizes and refreshments are planned. There will be a career fashion show as well! It will be held at the GPTC Worley Center on March 21 from 5:00-7:30 pm.
URL:https://lawtonproud.com/event/great-plains-region-3rd-annual-transition-resource-fair/
LOCATION:Great Plains Technology Center – Worley Center\, 4500 SW Lee Blvd\, Lawton \, OK\, 73505\, United States
END:VEVENT
BEGIN:VEVENT
DTSTART;TZID=America/Chicago:20170323T183000
DTEND;TZID=America/Chicago:20170323T210000
DTSTAMP:20260421T030751
CREATED:20170217T215538Z
LAST-MODIFIED:20170217T215538Z
UID:6174-1490293800-1490302800@lawtonproud.com
SUMMARY:Annual Fundraising Banquet for Sonrise Adult & Teen Challenge of OK
DESCRIPTION:We would like to invite you to a fun filled night and an opportunity to change men’s lives forever. March 23rd is our annual fundraising banquet. \nThis year our guest speaker will be former Thunder NBA player Desmond Mason. A catered meal will be provided by the Olive Garden and Lawton Ballet Theatre and Sonrise Men’s Choir will be performing. We will also be auctioning off Thunder Tickets\, handmade art\, and other exciting items with special guest former State Representative\, Don Armes as our auctioneer. \nTickets are $30.00 or $200.00 for a table of 8. Tickets are available at SuperThrift in Lawton and at Lawton First Assembly on Sunday & Wednesday Nights. \nThis year all proceeds will go to help remodel our re-entry houses. We recognize that the program doesn’t end after a student completes our 13-month program\, so we have six houses to remodel especially for our Sonrise graduates. This Re-enty Program will allow them to get a job\, and pursue the calling God has for them in the safety of Adult & Teen Challenge. We have built the foundation\, now we need your help to build the house! \nHope to see you there! Contact (580) 429-3940 to purchase tickets today!
URL:https://lawtonproud.com/event/annual-fundraising-banquet-sonrise-adult-teen-challenge-ok/
LOCATION:Lawton First Assembly\, 2201 NW 82nd St\, Lawton\, 73505
END:VEVENT
BEGIN:VEVENT
DTSTART;TZID=America/Chicago:20170323T183000
DTEND;TZID=America/Chicago:20170323T233000
DTSTAMP:20260421T030751
CREATED:20170320T035648Z
LAST-MODIFIED:20170320T035648Z
UID:6267-1490293800-1490311800@lawtonproud.com
SUMMARY:Girls' Night Out at Candy's Canvas
DESCRIPTION:A Girls Night Out Including Drinks\, Food & Painting!!! It’s Fun Art….Not Fine Art!!!
URL:https://lawtonproud.com/event/girls-night-candys-canvas/
LOCATION:The White Buffalo Food & Beer Co.\, 200 SW C Ave\, Lawton\, 73501
END:VEVENT
BEGIN:VEVENT
DTSTART;VALUE=DATE:20170324
DTEND;VALUE=DATE:20170327
DTSTAMP:20260421T030751
CREATED:20170131T151940Z
LAST-MODIFIED:20170131T151940Z
UID:6076-1490313600-1490572799@lawtonproud.com
SUMMARY:Home & Garden Show
DESCRIPTION:
URL:https://lawtonproud.com/event/home-garden-show/
LOCATION:Comanche County Fairgrounds\, 920 SW Sheridan Rd\, Lawton\, OK 73505\, 73505
END:VEVENT
BEGIN:VEVENT
DTSTART;TZID=America/Chicago:20170324T180000
DTEND;TZID=America/Chicago:20170324T200000
DTSTAMP:20260421T030751
CREATED:20170320T035921Z
LAST-MODIFIED:20170320T035921Z
UID:6268-1490378400-1490385600@lawtonproud.com
SUMMARY:Eiffel Tower Canvas Paint & Sip
DESCRIPTION:Imagine strolling through Paris in the spring…how about painting it? \nEnjoy painting this Eiffel Tower design and imagine yourself walking along the path.\nWe’ll help you step by step even if you’ve never painted a canvas before.\nWe provide a gallery wrapped 16 x 20 canvas\, easel\, apron\, brushes\, paints and palette.\nPrice is $35 + tax per painter.\nBring your favorite munchies and sips.\nTell your friends\, too\, they won’t want to miss out on the fun!
URL:https://lawtonproud.com/event/eiffel-tower-canvas-paint-sip/
LOCATION:A Pigment of Your Imagination\, 10 NW Sheridan Rd\, Lawton\, 73505
END:VEVENT
BEGIN:VEVENT
DTSTART;TZID=America/Chicago:20170324T180000
DTEND;TZID=America/Chicago:20170324T203000
DTSTAMP:20260421T030751
CREATED:20170320T040444Z
LAST-MODIFIED:20170320T040444Z
UID:6270-1490378400-1490387400@lawtonproud.com
SUMMARY:Girlfriends Game Night at Lawton First Assembly
DESCRIPTION:Featured Speaker\, Sarah Roberts\, Central Oklahoma’s Fellowship of Christian Athletes Rep!\nWear your favorite team colors or jersey. This will be a fun-filled evening with activities\, door prizes\, chocolate\, food and so much more! Tickets available March 5 in the Atrium or online lawtonfirst.org/gamenight \n 
URL:https://lawtonproud.com/event/girlfriends-game-night-lawton-first-assembly/
LOCATION:Lawton First Assembly\, 2201 NW 82nd St\, Lawton\, 73505
END:VEVENT
BEGIN:VEVENT
DTSTART;TZID=America/Chicago:20170324T183000
DTEND;TZID=America/Chicago:20170324T183000
DTSTAMP:20260421T030751
CREATED:20170320T040130Z
LAST-MODIFIED:20170320T040130Z
UID:6269-1490380200-1490380200@lawtonproud.com
SUMMARY:Print Show from Robert Peterson for The Lawton Ft. Sill Art Council
DESCRIPTION:For the first time ever I will be doing an art show featuring only prints with prices ranging from $25-$250. Every single dollar from the sales of these prints will benefit the Lawton Fort Sill Art Council buying much-needed supplies. There are anywhere between 25 to 65 kids that participate each month in the kids workshop classes. \nWith the lack of funding\, some of the children in Lawton Public Schools have limited exposer to the arts. The workshops put on each month by the council are doing their part by putting on these classes which teach\, inspire and motivate our children to be creative free of charge.
URL:https://lawtonproud.com/event/print-show-robert-peterson-lawton-ft-sill-art-council/
LOCATION:Lawton Fort Sill Art Council\, 1701 Ferris Ave\, Lawton\, OK\, 73505\, United States
END:VEVENT
BEGIN:VEVENT
DTSTART;TZID=America/Chicago:20170325T090000
DTEND;TZID=America/Chicago:20170325T160000
DTSTAMP:20260421T030751
CREATED:20170301T175303Z
LAST-MODIFIED:20170301T175303Z
UID:6240-1490432400-1490457600@lawtonproud.com
SUMMARY:Junk'n with 2 Hip Chicks
DESCRIPTION:Come Junk’n with 2 Hip Chicks!! Spend the day shopping from\nBoutiques\, repurposed furniture\, metal art\, chippy\, salvaged\, home decor\, good ole JUNK and 1 of a kind finds!! \nThe first 25 thru the door get a swag bag full of goodies! Door prizes are given away every 45 minutes!\n$5.00 admission and 12 and under are always free!
URL:https://lawtonproud.com/event/junkn-2-hip-chicks/
LOCATION:Comanche County Fairgrounds\, 920 SW Sheridan Rd\, Lawton\, OK 73505\, 73505
END:VEVENT
BEGIN:VEVENT
DTSTART;TZID=America/Chicago:20170325T100000
DTEND;TZID=America/Chicago:20170325T100000
DTSTAMP:20260421T030751
CREATED:20170217T212602Z
LAST-MODIFIED:20170217T212602Z
UID:6162-1490436000-1490436000@lawtonproud.com
SUMMARY:Stride 4 Shelter: 5K 4 R Kids Bubble Run
DESCRIPTION:The Lawton High School Key Club will be hosting the 2nd Annual Stride 4 Shelter: 5K 4 R Kids on March 25\, 2017! All funds raised for this exciting Bubble Run will be donated to Lawton Public School’s McKinney-Vento Program\, which serves more than 750 students from pre-kindergarten through 12th grade who have been identified as living in a homeless situation. The McKinney-Vento Education of Homeless Children and Youth Assistance Act is a federal law that ensures immediate enrollment and educational stability for homeless children and youth. The McKinney-Vento Act defines homeless children as “individuals who lack a fixed\, regular\, and adequate nighttime residence.” \nOur primary goal for the 5K Bubble Run is first and foremost to raise awareness about the homeless student situation in our community while providing knowledge about services available for anyone in a homeless situation and supporting those students in need. We want to show Lawton’s homeless students that their peers\, teachers\, and community care them. They are not forgotten\, they are seen\, they matter\, and WE support them! \nOn Saturday March 25th\, 2017 at 10:00 am the Stride 4 Shelter Bubble Run will begin and end on the Lawton High School Track\, located behind Lawton High School. Segments of the course will be in Elmer Thomas Park on the paths. Walkers and strollers are welcome. Run registration is $20 through RaceEntry at: goo.gl/HZGYv9 With the registration fee you will receive a runner bib\, Stride 4 Shelter Bubble Run T-shirt\, and the opportunity to run through bubbles and foam. \nAttire is whatever you feel comfortable running/ walking in and athletic shoes. Please note: there will be bubbles and foam so you might get a little wet. Our suggestion: wear your best lime green gear! The Homeless Student Awareness color is Lime Green. Help us Lime Out Lawton! \nFor more information regarding the run please visit our facebook page (@stride4shelter) or email us at stride4shelter@gmail.com Interests in donations and sponsorships are welcome and more information is available by emailing stride4shelter@gmail.com
URL:https://lawtonproud.com/event/stride-4-shelter-5k-4-r-kids/
LOCATION:Lawton High School
ORGANIZER;CN="Stride 4 Shelter":MAILTO:stride4shelter@gmail.com
END:VEVENT
BEGIN:VEVENT
DTSTART;TZID=America/Chicago:20170325T120000
DTEND;TZID=America/Chicago:20170325T140000
DTSTAMP:20260421T030751
CREATED:20170217T213811Z
LAST-MODIFIED:20170217T213958Z
UID:6168-1490443200-1490450400@lawtonproud.com
SUMMARY:Indian Taco Sale for Faith Childcare Development & Learning Center
DESCRIPTION:Authentic Indian Taco sale to help support the Faith Childcare Development & Learning Center. \nPresale tickets are available as well as donations accepted!
URL:https://lawtonproud.com/event/indian-taco-sale-faith-childcare-development-learning-center/
ORGANIZER;CN="Faith Childcare Development & Learning Center":MAILTO:fatihgig24@yahoo.com
END:VEVENT
BEGIN:VEVENT
DTSTART;TZID=America/Chicago:20170325T173000
DTEND;TZID=America/Chicago:20170325T203000
DTSTAMP:20260421T030751
CREATED:20170320T040837Z
LAST-MODIFIED:20170320T040936Z
UID:6271-1490463000-1490473800@lawtonproud.com
SUMMARY:Pancake Supper by Wesley Chapel United Methodist Church
DESCRIPTION:Please come out for fellowship & fabulous food; your donations will help support our mission work with Family Promise\, Kairos Torch\, Redemption Church Prison Ministry\, and others.
URL:https://lawtonproud.com/event/pancake-supper-wesley-chapel-united-methodist-church/
END:VEVENT
BEGIN:VEVENT
DTSTART;TZID=America/Chicago:20170325T190000
DTEND;TZID=America/Chicago:20170325T220000
DTSTAMP:20260421T030751
CREATED:20170324T164728Z
LAST-MODIFIED:20170324T165230Z
UID:6327-1490468400-1490479200@lawtonproud.com
SUMMARY:IZW Coronation
DESCRIPTION:Coronation is IZW’s biggest event\, celebrated yearly since the debut of Impact Zone Wrestling in 2004.  \nFight Card:\nIZW Championship\n– Johnny Z VS Kevin Morgan \nKendo Stick Impact Division Championship –\nDouble D VS Randy Price \nFalls Count Anywhere Tag Team Championship\n-Nemesis VS The Resistance
URL:https://lawtonproud.com/event/izw-coronation/
LOCATION:Impact Zone Wrestling\, 1009 SW F Ave\, Lawton\, OK\, United States
END:VEVENT
BEGIN:VEVENT
DTSTART;TZID=America/Chicago:20170327T183000
DTEND;TZID=America/Chicago:20170327T193000
DTSTAMP:20260421T030751
CREATED:20170320T041349Z
LAST-MODIFIED:20170320T041349Z
UID:6274-1490639400-1490643000@lawtonproud.com
SUMMARY:Human Trafficking Seminar
DESCRIPTION:Join the ladies of the Junior League for an informational session on Human Trafficking by DeAnna Sanders from She Is Safe. Learn tips for spotting signs of abuse and human trafficking in our own community. Tickets are free and event is open to the public. Please RSVP by clicking “going” and we will save you a seat!
URL:https://lawtonproud.com/event/human-trafficking-seminar/
LOCATION:Great Plains Technology Center\, 4500 SW Lee Blvd\, Lawton\, 73505
END:VEVENT
BEGIN:VEVENT
DTSTART;TZID=America/Chicago:20170328T183000
DTEND;TZID=America/Chicago:20170328T183000
DTSTAMP:20260421T030751
CREATED:20170324T162011Z
LAST-MODIFIED:20170327T161319Z
UID:6318-1490725800-1490725800@lawtonproud.com
SUMMARY:World's Best Boot Camp Troop 21 Bring a Friend Party
DESCRIPTION:
URL:https://lawtonproud.com/event/worlds-best-boot-camp-troop-21-bring-friend/
LOCATION:World’s Best Boot Camp Lawton\, 206 SE B Ave\, Lawton \, OK\, 73501\, United States
END:VEVENT
BEGIN:VEVENT
DTSTART;TZID=America/Chicago:20170328T190000
DTEND;TZID=America/Chicago:20170328T210000
DTSTAMP:20260421T030751
CREATED:20170324T203110Z
LAST-MODIFIED:20170324T203110Z
UID:6330-1490727600-1490734800@lawtonproud.com
SUMMARY:Not Yo Mama's Alternative Art Poetry Slam
DESCRIPTION:Featuring Cameron Brewer  \nAdmission is free and this is an open mic event
URL:https://lawtonproud.com/event/not-yo-mamas-alternative-art-poetry-slam/
LOCATION:The Percolator\, 605 SW Ave\, Lawton\, 73501
END:VEVENT
BEGIN:VEVENT
DTSTART;TZID=America/Chicago:20170330T100000
DTEND;TZID=America/Chicago:20170330T140000
DTSTAMP:20260421T030751
CREATED:20170327T152942Z
LAST-MODIFIED:20170327T152942Z
UID:6335-1490868000-1490882400@lawtonproud.com
SUMMARY:Meet Sammy at Regal Car Sales
DESCRIPTION:Please call Regal and RSVP at (580) 595-9111.
URL:https://lawtonproud.com/event/meet-sammy/
LOCATION:Regal Car Sales\, 4309 NW Cache Rd\, Lawton\, OK\, 73505\, United States
END:VEVENT
BEGIN:VEVENT
DTSTART;TZID=America/Chicago:20170330T120000
DTEND;TZID=America/Chicago:20170330T133000
DTSTAMP:20260421T030751
CREATED:20170329T144807Z
LAST-MODIFIED:20170329T144836Z
UID:6367-1490875200-1490880600@lawtonproud.com
SUMMARY:Birthday Celebration for Former Governor George Nigh
DESCRIPTION:Come wish Former Governor George Nigh a happy 90th birthday at The Lawton First Assembly Worship Center East! Tickets may be purchased on Eventbrite for $20 and include lunch.
URL:https://lawtonproud.com/event/birthday-celebration-former-governor-george-nigh/
LOCATION:Lawton First Assembly\, 2201 NW 82nd St\, Lawton\, 73505
END:VEVENT
BEGIN:VEVENT
DTSTART;TZID=America/Chicago:20170330T160000
DTEND;TZID=America/Chicago:20170330T160000
DTSTAMP:20260421T030751
CREATED:20170217T214130Z
LAST-MODIFIED:20170217T214130Z
UID:6173-1490889600-1490889600@lawtonproud.com
SUMMARY:Founders Brewery Tap Takeover
DESCRIPTION:Dust off your overalls and wind pants and join Backporch Drafthouse for throwback Thursday!! Featuring Founders Brewery
URL:https://lawtonproud.com/event/founders-brewery-tap-takeover/
LOCATION:BackPorch Drafthouse\, 1925 W Gore Blvd\, Lawton\, 73501
END:VEVENT
END:VCALENDAR